BEGIN:VCALENDAR
VERSION:2.0
PRODID:-//ChamberMaster//Event Calendar 2.0//EN
METHOD:PUBLISH
X-PUBLISHED-TTL:P3D
REFRESH-INTERVAL:P3D
CALSCALE:GREGORIAN
BEGIN:VEVENT
DTSTART:20250823T170000Z
DTEND:20250823T200000Z
X-MICROSOFT-CDO-ALLDAYEVENT:FALSE
SUMMARY:Angels with Tail Winnetka
DESCRIPTION:Your favorite boutiques will open their storefronts to adoptable dogs\, cats\, puppies and kittens Saturday\, August 23 in the Winnetka neighborhood from noon - 3 p.m.
X-ALT-DESC;FMTTYPE=text/html:<span style="color:rgb(102\, 102\, 102)\; font-family:arial\,helvetica\,sans-serif\; font-size:16px">Your favorite boutiques will open their storefronts to adoptable dogs\, cats\, puppies and kittens Saturday\, August 23 in the Winnetka neighborhood from noon - 3 p.m.</span>
LOCATION:Storefronts across downtown Winnetka
UID:e.259.17496
SEQUENCE:3
DTSTAMP:20260422T023927Z
URL:http://winnetkachamber.chambermaster.com/events/details/angels-with-tail-winnetka-17496
END:VEVENT

END:VCALENDAR
