BEGIN:VCALENDAR
VERSION:2.0
PRODID:-//ChamberMaster//Event Calendar 2.0//EN
METHOD:PUBLISH
X-PUBLISHED-TTL:P3D
REFRESH-INTERVAL:P3D
CALSCALE:GREGORIAN
BEGIN:VEVENT
DTSTART:20250419T153000Z
DTEND:20250419T170000Z
X-MICROSOFT-CDO-ALLDAYEVENT:FALSE
SUMMARY:EGGSTRAVAGANZA - NORTHFIELD
DESCRIPTION:Join us for our exciting Eggstravaganza Egg Hunt starting at 11:00am. \n\nBefore the hunt begins\, families can enjoy pictures with the Easter Bunny from 10:30-11:00am. Don't Miss out on the chance to snap a memorable photo with the bunny. \n\nBe sure to arrive early to get the best sports for the egg hunt. Happy Hunting! \n\n\n\nEggstavaganza is a perfect event for ages 2-8 years old!
X-ALT-DESC;FMTTYPE=text/html:Join us for our exciting Eggstravaganza Egg Hunt starting at 11:00am.&nbsp\;<br />\nBefore the hunt begins\, families can enjoy pictures with the Easter Bunny from 10:30-11:00am. Don&#39\;t Miss out on the chance to snap a memorable photo with the bunny.&nbsp\;<br />\nBe sure to arrive early to get the best sports for the egg hunt. Happy Hunting!&nbsp\;<br />\n<br />\nEggstavaganza is a perfect event for ages 2-8 years old!
LOCATION:Clarkson Park 1950 Willow Rd Northfield
UID:e.259.16591
SEQUENCE:3
DTSTAMP:20260420T142404Z
URL:http://winnetkachamber.chambermaster.com/events/details/eggstravaganza-16591
END:VEVENT

END:VCALENDAR
