BEGIN:VCALENDAR
VERSION:2.0
PRODID:-//ChamberMaster//Event Calendar 2.0//EN
METHOD:PUBLISH
X-PUBLISHED-TTL:P3D
REFRESH-INTERVAL:P3D
CALSCALE:GREGORIAN
BEGIN:VEVENT
DTSTART:20231026T150000Z
DTEND:20231026T161500Z
X-MICROSOFT-CDO-ALLDAYEVENT:FALSE
SUMMARY:Evolving Workforce Development Strategies
DESCRIPTION:Evolving Workforce Development Strategies\n\nVirtual Webinar: October 26th\, 10:00   11:15 AM \n\nOctober 26th webinar registration link: https://milespartnership.zoom.us/webinar/register/WN_OuzvYW1HRbycH8MisygXCQ\n\nDiscovering workers in the tourism industry can be challenging due to various factors\; this session will present solutions to create a thoughtful and strategic approach. Employing these strategies and recommendations\, businesses in the tourism industry can enhance their recruitment efforts and find suitable candidates to meet their staffing needs to attract skilled and dedicated workers to the tourism industry effectively.\n\nTopics to include:\n\nIdentifying the Target Audience\n\nJob Posting Platforms \n\nOffer Competitive Compensation and Benefit\n\nEmphasize Training and Career Growth\n\nEngage with Educational Institutions\n\nShowcase Company Culture\n\nAttend Industry Events and Conferences\n\nPartnerships with Diverse Organizations\n\nOffer Flexible Work Arrangements\n\nBe Responsive and Respectful
X-ALT-DESC;FMTTYPE=text/html:<span style="color:#38761D\;"><span style="font-size:34.0pt\;">Evolving Workforce Development Strategies</span></span><br />\n<span style="font-size:19.0pt\;">Virtual Webinar: October 26</span><span style="font-size:12.5pt\;">th</span><span style="font-size:19.0pt\;">\, 10:00 &ndash\; 11:15 AM </span><br />\n<span style="color:#171F38\;"><span style="font-family:oswald\;"><span style="font-size:14.0pt\;">October 26</span></span></span><span style="color:#171F38\;"><span style="font-family:oswald\;"><span style="font-size:9.0pt\;">th </span></span></span><span style="color:#171F38\;"><span style="font-family:oswald\;"><span style="font-size:14.0pt\;">webinar registration link: </span></span></span><span style="color:#0096A7\;"><span style="font-family:calibri\,sans-serif\;"><span style="font-size:14.0pt\;"><a href="https://milespartnership.zoom.us/webinar/register/WN_OuzvYW1HRbycH8MisygXCQ">https://milespartnership.zoom.us/webinar/register/WN_OuzvYW1HRbycH8MisygXCQ</a></span></span></span><br />\n<span style="font-family:calibri\,sans-serif\;"><span style="font-size:14.0pt\;">Discovering workers in the tourism industry can be challenging due to various factors\; this session will present solutions to create a thoughtful and strategic approach. Employing these strategies and recommendations\, businesses in the tourism industry can enhance their recruitment efforts and find suitable candidates to meet their staffing needs to attract skilled and dedicated workers to the tourism industry effectively.</span></span><br />\n<strong><span style="font-family:calibri\,sans-serif\;"><span style="font-size:14.0pt\;">Topics to include:</span></span></strong><br />\n<span style="font-family:calibri\,sans-serif\;"><span style="font-size:14.0pt\;">Identifying the Target Audience</span></span><br />\n<span style="font-family:calibri\,sans-serif\;"><span style="font-size:14.0pt\;">Job Posting Platforms </span></span><br />\n<span style="font-family:calibri\,sans-serif\;"><span style="font-size:14.0pt\;">Offer Competitive Compensation and Benefit</span></span><br />\n<span style="font-family:calibri\,sans-serif\;"><span style="font-size:14.0pt\;">Emphasize Training and Career Growth</span></span><br />\n<span style="font-family:calibri\,sans-serif\;"><span style="font-size:14.0pt\;">Engage with Educational Institutions</span></span><br />\n<span style="font-family:calibri\,sans-serif\;"><span style="font-size:14.0pt\;">Showcase Company Culture</span></span><br />\n<span style="font-family:calibri\,sans-serif\;"><span style="font-size:14.0pt\;">Attend Industry Events and Conferences</span></span><br />\n<span style="font-family:calibri\,sans-serif\;"><span style="font-size:14.0pt\;">Partnerships with Diverse Organizations</span></span><br />\n<span style="font-family:calibri\,sans-serif\;"><span style="font-size:14.0pt\;">Offer Flexible Work Arrangements</span></span><br />\n<span style="font-family:calibri\,sans-serif\;"><span style="font-size:14.0pt\;">Be Responsive and Respectful</span></span><br />\n&nbsp\;
LOCATION:VIRTUAL
UID:e.259.15251
SEQUENCE:3
DTSTAMP:20260425T222724Z
URL:http://winnetkachamber.chambermaster.com/events/details/evolving-workforce-development-strategies-15251
END:VEVENT

END:VCALENDAR
