BEGIN:VCALENDAR
VERSION:2.0
PRODID:-//ChamberMaster//Event Calendar 2.0//EN
METHOD:PUBLISH
X-PUBLISHED-TTL:P3D
REFRESH-INTERVAL:P3D
CALSCALE:GREGORIAN
BEGIN:VEVENT
DTSTART:20240503T160000Z
DTEND:20240512T000000Z
X-MICROSOFT-CDO-ALLDAYEVENT:FALSE
SUMMARY:Spring Adopt-a-Thon
DESCRIPTION:Big\, small\, fluffy\, scruffy\, snuggly\, athletic\, curious\, clumsy the Adoption Center is bustling with every kind of dog\, cat\, puppy\, and kitten you can imagine!   \n\n\n\nJoin us at Spring Adopt-a-Thon May 3 May 11 to see the cutest pets around and meet your new best friend. To help these amazing animals find homes\, PAWS Chicago is extending hours and adding appointments on select days throughout the event:   \n\n\n\n\n	\n	Friday\, May 3: 11 a.m. 8 p.m.   \n	\n	\n	Saturday\, May 4: 11 a.m. 7 p.m.   \n	\n	\n	Friday\, May 10: 11 a.m. 8 p.m.   \n	\n	\n	Saturday\, May 11: 11 a.m. 7 p.m.  \n	\n\n\n\n\nRegular Adoption Center hours are Monday Friday\, noon 7 p.m. and Saturday Sunday\, 11 a.m. 5 p.m. With so many options\, it's never been easier to fit friendship into your schedule!
X-ALT-DESC;FMTTYPE=text/html:<div>\n<p><span style="font-family:aptos\,aptos_embeddedfont\,aptos_msfontservice\,sans-serif\; font-size:12pt">Big\, small\, fluffy\, scruffy\, snuggly\, athletic\, curious\, clumsy&mdash\;the Adoption Center is bustling with every kind of dog\, cat\, puppy\, and kitten you can imagine!&nbsp\;&nbsp\;</span><span style="font-family:aptos\,aptos_embeddedfont\,aptos_msfontservice\,sans-serif\; font-size:12pt">&nbsp\;</span></p>\n</div>\n\n<div>\n<p><span style="font-family:aptos\,aptos_embeddedfont\,aptos_msfontservice\,sans-serif\; font-size:12pt">Join us at Spring Adopt-a-Thon May 3&ndash\;May 11 to see the cutest pets around and meet your new best friend. To help these amazing animals find homes\, PAWS Chicago is extending hours and adding appointments on select days throughout the event:&nbsp\;&nbsp\;</span><span style="font-family:aptos\,aptos_embeddedfont\,aptos_msfontservice\,sans-serif\; font-size:12pt">&nbsp\;</span></p>\n</div>\n\n<div>\n<ul>\n	<li>\n	<p><span style="font-family:aptos\,aptos_embeddedfont\,aptos_msfontservice\,sans-serif\; font-size:12pt">Friday\, May 3: 11 a.m.&ndash\;8 p.m.&nbsp\;&nbsp\;</span><span style="font-family:aptos\,aptos_embeddedfont\,aptos_msfontservice\,sans-serif\; font-size:12pt">&nbsp\;</span></p>\n	</li>\n	<li>\n	<p><span style="font-family:aptos\,aptos_embeddedfont\,aptos_msfontservice\,sans-serif\; font-size:12pt">Saturday\, May 4: 11 a.m.&ndash\;7 p.m.&nbsp\;&nbsp\;</span><span style="font-family:aptos\,aptos_embeddedfont\,aptos_msfontservice\,sans-serif\; font-size:12pt">&nbsp\;</span></p>\n	</li>\n	<li>\n	<p><span style="font-family:aptos\,aptos_embeddedfont\,aptos_msfontservice\,sans-serif\; font-size:12pt">Friday\, May 10: 11 a.m.&ndash\;8 p.m.&nbsp\;&nbsp\;</span><span style="font-family:aptos\,aptos_embeddedfont\,aptos_msfontservice\,sans-serif\; font-size:12pt">&nbsp\;</span></p>\n	</li>\n	<li>\n	<p><span style="font-family:aptos\,aptos_embeddedfont\,aptos_msfontservice\,sans-serif\; font-size:12pt">Saturday\, May 11: 11 a.m.&ndash\;7 p.m.&nbsp\;</span><span style="font-family:aptos\,aptos_embeddedfont\,aptos_msfontservice\,sans-serif\; font-size:12pt">&nbsp\;</span></p>\n	</li>\n</ul>\n</div>\n\n<div>\n<p><span style="font-family:aptos\,aptos_embeddedfont\,aptos_msfontservice\,sans-serif\; font-size:12pt">Regular Adoption Center hours are Monday&ndash\;Friday\, noon&ndash\;7 p.m. and Saturday&ndash\;Sunday\, 11 a.m.&ndash\;5 p.m. With so many options\, it&rsquo\;s never been easier to fit friendship into your schedule!</span><span style="font-family:aptos\,aptos_embeddedfont\,aptos_msfontservice\,sans-serif\; font-size:12pt">&nbsp\;</span></p>\n</div>\n
LOCATION:Pippen Fasseas Adoption Center 1997 N. Clybourn Ave Chicago\, IL 60614
UID:e.259.15742
SEQUENCE:3
DTSTAMP:20260423T054109Z
URL:http://winnetkachamber.chambermaster.com/events/details/spring-adopt-a-thon-15742
END:VEVENT

END:VCALENDAR
